BEGIN:VCALENDAR
VERSION:2.0
PRODID:-//Country Blossom Farm, LLC - ECPv6.9.0//NONSGML v1.0//EN
CALSCALE:GREGORIAN
METHOD:PUBLISH
X-WR-CALNAME:Country Blossom Farm, LLC
X-ORIGINAL-URL:https://www.countryblossomfarm.com
X-WR-CALDESC:Events for Country Blossom Farm, LLC
REFRESH-INTERVAL;VALUE=DURATION:PT1H
X-Robots-Tag:noindex
X-PUBLISHED-TTL:PT1H
BEGIN:VTIMEZONE
TZID:America/Chicago
BEGIN:DAYLIGHT
TZOFFSETFROM:-0600
TZOFFSETTO:-0500
TZNAME:CDT
DTSTART:20240310T080000
END:DAYLIGHT
BEGIN:STANDARD
TZOFFSETFROM:-0500
TZOFFSETTO:-0600
TZNAME:CST
DTSTART:20241103T070000
END:STANDARD
END:VTIMEZONE
BEGIN:VEVENT
DTSTART;TZID=America/Chicago:20240906T170000
DTEND;TZID=America/Chicago:20240906T190000
DTSTAMP:20260419T180523
CREATED:20240815T204517Z
LAST-MODIFIED:20240822T161105Z
UID:1808-1725642000-1725649200@www.countryblossomfarm.com
SUMMARY:Hard Cider & Donut Pairing
DESCRIPTION:Save the date! \nWe are doing it again! This is a ticketed event that includes a flight of 4 Hard Ciders and 4 specially crafted donuts to pair with each cider. \n  \nMore details to come….
URL:https://www.countryblossomfarm.com/event/hard-cider-donut-pairing/
END:VEVENT
END:VCALENDAR