BEGIN:VCALENDAR
VERSION:2.0
PRODID:-//Country Blossom Farm, LLC - ECPv6.9.0//NONSGML v1.0//EN
CALSCALE:GREGORIAN
METHOD:PUBLISH
X-ORIGINAL-URL:https://www.countryblossomfarm.com
X-WR-CALDESC:Events for Country Blossom Farm, LLC
REFRESH-INTERVAL;VALUE=DURATION:PT1H
X-Robots-Tag:noindex
X-PUBLISHED-TTL:PT1H
BEGIN:VTIMEZONE
TZID:America/Chicago
BEGIN:DAYLIGHT
TZOFFSETFROM:-0600
TZOFFSETTO:-0500
TZNAME:CDT
DTSTART:20250309T080000
END:DAYLIGHT
BEGIN:STANDARD
TZOFFSETFROM:-0500
TZOFFSETTO:-0600
TZNAME:CST
DTSTART:20251102T070000
END:STANDARD
END:VTIMEZONE
BEGIN:VEVENT
DTSTART;TZID=America/Chicago:20250509T110000
DTEND;TZID=America/Chicago:20250510T170000
DTSTAMP:20260420T000142
CREATED:20250409T183006Z
LAST-MODIFIED:20250409T183006Z
UID:2039-1746788400-1746896400@www.countryblossomfarm.com
SUMMARY:2025 Mother's Day Weekend Special
DESCRIPTION:Celebrate the moms and the mom figures in your life with a trip to Country Blossom Farm! We will be open Friday\, May 9th and Saturday\, May 10th from 11am-5pm! Pre-order our Mother’s Day Brunch Special! This special includes; a brunch quiche + 4 asst. scones OR 1 dozen raspberry white chocolate cookies for $34.99! \nWe will have our 50% off clearance sale with a variety of home decor\, seasonal\, kitchen\, furniture and so much more! \nDonuts will be available for purchase on Saturday! *No other fresh bakery* \nFreezers will be stocked with frozen pies & crisps! \nCoolers will be stocked with CBF Hard Cider! \nOrder our special on our website under the “order tab”!
URL:https://www.countryblossomfarm.com/event/2025-mothers-day-weekend-special/
LOCATION:Country Blossom Farm\, 1951 Englund Rd SW Alexandria\, MN 56308 United States\, United States
END:VEVENT
END:VCALENDAR