BEGIN:VCALENDAR
VERSION:2.0
PRODID:-//Country Blossom Farm, LLC - ECPv6.9.0//NONSGML v1.0//EN
CALSCALE:GREGORIAN
METHOD:PUBLISH
X-WR-CALNAME:Country Blossom Farm, LLC
X-ORIGINAL-URL:https://www.countryblossomfarm.com
X-WR-CALDESC:Events for Country Blossom Farm, LLC
REFRESH-INTERVAL;VALUE=DURATION:PT1H
X-Robots-Tag:noindex
X-PUBLISHED-TTL:PT1H
BEGIN:VTIMEZONE
TZID:America/Chicago
BEGIN:DAYLIGHT
TZOFFSETFROM:-0600
TZOFFSETTO:-0500
TZNAME:CDT
DTSTART:20250309T080000
END:DAYLIGHT
BEGIN:STANDARD
TZOFFSETFROM:-0500
TZOFFSETTO:-0600
TZNAME:CST
DTSTART:20251102T070000
END:STANDARD
END:VTIMEZONE
BEGIN:VEVENT
DTSTART;TZID=America/Chicago:20250816T100000
DTEND;TZID=America/Chicago:20250817T180000
DTSTAMP:20260422T222100
CREATED:20250815T032524Z
LAST-MODIFIED:20250815T032604Z
UID:2351-1755338400-1755453600@www.countryblossomfarm.com
SUMMARY:2025 Fall Season Opener!
DESCRIPTION:Join us for our first day of our Fall Season at The Farm!!  \nAll outdoor activities will be open Thursday-Sunday 10am-6pm now thru October 26th!  \nActivities\, our Store\, Bakery\, and Cider Bar will be open everyday during our Fall Season. \nActivities:  \nAll day wristband- $15.99/person (incl tax) \nSeason Pass: $38/person (incl tax) \n3 and under are free!  \nU-pick raspberries are ready now! U-pick apples will be coming soon- stay tuned!  \nThe best place to find all updates about apples and events during our Fall Season is to follow us on Facebook\, Instagram\, or give us a call! 
URL:https://www.countryblossomfarm.com/event/2025-fall-season-opener/
LOCATION:Country Blossom Farm\, 1951 Englund Rd SW Alexandria\, MN 56308 United States\, United States
END:VEVENT
END:VCALENDAR