BEGIN:VCALENDAR
VERSION:2.0
PRODID:-//Country Blossom Farm, LLC - ECPv6.9.0//NONSGML v1.0//EN
CALSCALE:GREGORIAN
METHOD:PUBLISH
X-WR-CALNAME:Country Blossom Farm, LLC
X-ORIGINAL-URL:https://www.countryblossomfarm.com
X-WR-CALDESC:Events for Country Blossom Farm, LLC
REFRESH-INTERVAL;VALUE=DURATION:PT1H
X-Robots-Tag:noindex
X-PUBLISHED-TTL:PT1H
BEGIN:VTIMEZONE
TZID:America/Chicago
BEGIN:DAYLIGHT
TZOFFSETFROM:-0600
TZOFFSETTO:-0500
TZNAME:CDT
DTSTART:20250309T080000
END:DAYLIGHT
BEGIN:STANDARD
TZOFFSETFROM:-0500
TZOFFSETTO:-0600
TZNAME:CST
DTSTART:20251102T070000
END:STANDARD
END:VTIMEZONE
BEGIN:VEVENT
DTSTART;TZID=America/Chicago:20251005T100000
DTEND;TZID=America/Chicago:20251005T140000
DTSTAMP:20260422T192938
CREATED:20250917T040625Z
LAST-MODIFIED:20250917T041653Z
UID:2400-1759658400-1759672800@www.countryblossomfarm.com
SUMMARY:9th Annual Apple Pie Baking Contest!!
DESCRIPTION:Join us for one of the best days of the year- our Apple Pie Baking Contest!! \n*Amateur bakers only* No pre-registration needed! Over $1\,000 in prizes! \nSunday\, October 5th\n10am-11am Pie Dropoff\n11am-12:45pm Pie Judging\n1pm Winners Announced\n1:30pm Pie Buffet for all attendees\n*while supplies last*  \nSee flyer for full deatils and list of rules! \nReady…Set…Bake!
URL:https://www.countryblossomfarm.com/event/9th-annual-apple-pie-baking-contest/
LOCATION:Country Blossom Farm\, 1951 Englund Rd SW Alexandria\, MN 56308 United States\, United States
END:VEVENT
END:VCALENDAR