BEGIN:VCALENDAR
VERSION:2.0
PRODID:-//Country Blossom Farm, LLC - ECPv6.9.0//NONSGML v1.0//EN
CALSCALE:GREGORIAN
METHOD:PUBLISH
X-ORIGINAL-URL:https://www.countryblossomfarm.com
X-WR-CALDESC:Events for Country Blossom Farm, LLC
REFRESH-INTERVAL;VALUE=DURATION:PT1H
X-Robots-Tag:noindex
X-PUBLISHED-TTL:PT1H
BEGIN:VTIMEZONE
TZID:America/Chicago
BEGIN:DAYLIGHT
TZOFFSETFROM:-0600
TZOFFSETTO:-0500
TZNAME:CDT
DTSTART:20250309T080000
END:DAYLIGHT
BEGIN:STANDARD
TZOFFSETFROM:-0500
TZOFFSETTO:-0600
TZNAME:CST
DTSTART:20251102T070000
END:STANDARD
END:VTIMEZONE
BEGIN:VEVENT
DTSTART;TZID=America/Chicago:20251016T100000
DTEND;TZID=America/Chicago:20251019T180000
DTSTAMP:20260422T192952
CREATED:20250815T035038Z
LAST-MODIFIED:20250815T035038Z
UID:2356-1760608800-1760896800@www.countryblossomfarm.com
SUMMARY:MEA Weekend at The Farm!
DESCRIPTION:Save the date! MEA Weekend is always a good time at Country Blossom Farm!  \nThursday\, October 16th- Sunday\, October 19th! \nFall fun activities\, hay rides\, pumpkin patch\, hot cider\, bakery treats and so much more!  \nFor all updates\, please follow us on Facebook\, Instagram\, or give us a call!
URL:https://www.countryblossomfarm.com/event/mea-weekend-at-the-farm/
LOCATION:Country Blossom Farm\, 1951 Englund Rd SW Alexandria\, MN 56308 United States\, United States
END:VEVENT
END:VCALENDAR