BEGIN:VCALENDAR
VERSION:2.0
PRODID:-//Country Blossom Farm, LLC - ECPv6.9.0//NONSGML v1.0//EN
CALSCALE:GREGORIAN
METHOD:PUBLISH
X-ORIGINAL-URL:https://www.countryblossomfarm.com
X-WR-CALDESC:Events for Country Blossom Farm, LLC
REFRESH-INTERVAL;VALUE=DURATION:PT1H
X-Robots-Tag:noindex
X-PUBLISHED-TTL:PT1H
BEGIN:VTIMEZONE
TZID:America/Chicago
BEGIN:DAYLIGHT
TZOFFSETFROM:-0600
TZOFFSETTO:-0500
TZNAME:CDT
DTSTART:20250309T080000
END:DAYLIGHT
BEGIN:STANDARD
TZOFFSETFROM:-0500
TZOFFSETTO:-0600
TZNAME:CST
DTSTART:20251102T070000
END:STANDARD
END:VTIMEZONE
BEGIN:VEVENT
DTSTART;TZID=America/Chicago:20251108T110000
DTEND;TZID=America/Chicago:20251109T170000
DTSTAMP:20260422T050428
CREATED:20251103T025031Z
LAST-MODIFIED:20251103T025031Z
UID:2486-1762599600-1762707600@www.countryblossomfarm.com
SUMMARY:Holiday Open House at Country Blossom Farm!
DESCRIPTION:Join us on Saturday\, Nov. 8th and Sunday\, Nov. 9th for our Holiday Open House!! We are turning our Gift Shop into a Winter Wonderland! Our bakery will be open and feature our holiday cookies! Our Hard Cider will be on tap for you to sip while you shop. (21+ w/ valid id) Fresh baked fruit pies will be available for purchase too! \nFree gift with purchase over $50. Check our social media pages for a peek at our sale for our Open House weekend! \nOpen 11am-5pm Saturday and Sunday.
URL:https://www.countryblossomfarm.com/event/holiday-open-house-at-country-blossom-farm/
LOCATION:Country Blossom Farm\, 1951 Englund Rd SW Alexandria\, MN 56308 United States\, United States
END:VEVENT
END:VCALENDAR