BEGIN:VCALENDAR
VERSION:2.0
PRODID:-//Country Blossom Farm, LLC - ECPv6.9.0//NONSGML v1.0//EN
CALSCALE:GREGORIAN
METHOD:PUBLISH
X-ORIGINAL-URL:https://www.countryblossomfarm.com
X-WR-CALDESC:Events for Country Blossom Farm, LLC
REFRESH-INTERVAL;VALUE=DURATION:PT1H
X-Robots-Tag:noindex
X-PUBLISHED-TTL:PT1H
BEGIN:VTIMEZONE
TZID:America/Chicago
BEGIN:DAYLIGHT
TZOFFSETFROM:-0600
TZOFFSETTO:-0500
TZNAME:CDT
DTSTART:20260308T080000
END:DAYLIGHT
BEGIN:STANDARD
TZOFFSETFROM:-0500
TZOFFSETTO:-0600
TZNAME:CST
DTSTART:20261101T070000
END:STANDARD
END:VTIMEZONE
BEGIN:VEVENT
DTSTART;TZID=America/Chicago:20260426T120000
DTEND;TZID=America/Chicago:20260426T140000
DTSTAMP:20260425T064805
CREATED:20260423T230911Z
LAST-MODIFIED:20260423T231024Z
UID:4824-1777204800-1777212000@www.countryblossomfarm.com
SUMMARY:Apple Tree Pick Up
DESCRIPTION:Bareroot tree email 2026
URL:https://www.countryblossomfarm.com/event/apple-tree-pick-up/
END:VEVENT
BEGIN:VEVENT
DTSTART;TZID=America/Chicago:20260428T170000
DTEND;TZID=America/Chicago:20260428T190000
DTSTAMP:20260425T064805
CREATED:20260423T231157Z
LAST-MODIFIED:20260423T231202Z
UID:4828-1777395600-1777402800@www.countryblossomfarm.com
SUMMARY:Apple Tree Pick Up
DESCRIPTION:Bareroot tree email 2026
URL:https://www.countryblossomfarm.com/event/apple-tree-pick-up-2/
END:VEVENT
END:VCALENDAR