BEGIN:VCALENDAR
VERSION:2.0
PRODID:-//Country Blossom Farm, LLC - ECPv6.9.0//NONSGML v1.0//EN
CALSCALE:GREGORIAN
METHOD:PUBLISH
X-WR-CALNAME:Country Blossom Farm, LLC
X-ORIGINAL-URL:https://www.countryblossomfarm.com
X-WR-CALDESC:Events for Country Blossom Farm, LLC
REFRESH-INTERVAL;VALUE=DURATION:PT1H
X-Robots-Tag:noindex
X-PUBLISHED-TTL:PT1H
BEGIN:VTIMEZONE
TZID:America/Chicago
BEGIN:DAYLIGHT
TZOFFSETFROM:-0600
TZOFFSETTO:-0500
TZNAME:CDT
DTSTART:20240310T080000
END:DAYLIGHT
BEGIN:STANDARD
TZOFFSETFROM:-0500
TZOFFSETTO:-0600
TZNAME:CST
DTSTART:20241103T070000
END:STANDARD
END:VTIMEZONE
BEGIN:VEVENT
DTSTART;TZID=America/Chicago:20240817T100000
DTEND;TZID=America/Chicago:20240817T180000
DTSTAMP:20260419T162456
CREATED:20230815T130303Z
LAST-MODIFIED:20240620T163328Z
UID:1250-1723888800-1723917600@www.countryblossomfarm.com
SUMMARY:Fall 2024 Farm Activities Open
DESCRIPTION:Watch for all the updates on social media!
URL:https://www.countryblossomfarm.com/event/fall-2023-farm-activities-open/
END:VEVENT
BEGIN:VEVENT
DTSTART;TZID=America/Chicago:20240830T100000
DTEND;TZID=America/Chicago:20240902T180000
DTSTAMP:20260419T162456
CREATED:20240815T203915Z
LAST-MODIFIED:20240815T211749Z
UID:1805-1725012000-1725300000@www.countryblossomfarm.com
SUMMARY:Labor Day Weekend Events
DESCRIPTION:-Friday\, August 30th- Launch of our new ice cider\, Apple & Ice! *Must present valid 21+ ID to buy* \n  \n-Friday\, August 30th- Live music from The Nobles on our patio from 3:00-5:00pm \n  \n-Saturday\, August 31st- We will have Clueless the balloon twisting clown under the tent from 12pm-4pm! \n  \n-Sunday\, September 1st- We will have Clueless the balloon twisting clown under the tent from 12pm-4pm! \n  \n-Monday\, September 2nd- Labor Day we are OPEN 10am-6pm! \n  \n-Tuesday\, September 3rd- CLOSED
URL:https://www.countryblossomfarm.com/event/labor-day-weekend-events/
END:VEVENT
END:VCALENDAR