BEGIN:VCALENDAR
VERSION:2.0
PRODID:-//Country Blossom Farm, LLC - ECPv6.9.0//NONSGML v1.0//EN
CALSCALE:GREGORIAN
METHOD:PUBLISH
X-WR-CALNAME:Country Blossom Farm, LLC
X-ORIGINAL-URL:https://www.countryblossomfarm.com
X-WR-CALDESC:Events for Country Blossom Farm, LLC
REFRESH-INTERVAL;VALUE=DURATION:PT1H
X-Robots-Tag:noindex
X-PUBLISHED-TTL:PT1H
BEGIN:VTIMEZONE
TZID:America/Chicago
BEGIN:DAYLIGHT
TZOFFSETFROM:-0600
TZOFFSETTO:-0500
TZNAME:CDT
DTSTART:20240310T080000
END:DAYLIGHT
BEGIN:STANDARD
TZOFFSETFROM:-0500
TZOFFSETTO:-0600
TZNAME:CST
DTSTART:20241103T070000
END:STANDARD
END:VTIMEZONE
BEGIN:VEVENT
DTSTART;TZID=America/Chicago:20241005T120000
DTEND;TZID=America/Chicago:20241005T160000
DTSTAMP:20260419T181422
CREATED:20240815T210445Z
LAST-MODIFIED:20240815T210445Z
UID:1814-1728129600-1728144000@www.countryblossomfarm.com
SUMMARY:Full Circle Farms Pop Up at CBF
DESCRIPTION:Roscoe & Jenny from Full Circle Farms will be popping up at Country Blossom Farm from 12pm-4pm! They will be brining a variety of fresh baked sourdough breads for purchase. We love their mission and the passion they have for their products. Read more about their story at fullcirclefarmmn.com
URL:https://www.countryblossomfarm.com/event/full-circle-farms-pop-up-at-cbf/
END:VEVENT
BEGIN:VEVENT
DTSTART;TZID=America/Chicago:20241013T100000
DTEND;TZID=America/Chicago:20241013T133000
DTSTAMP:20260419T181422
CREATED:20240918T212831Z
LAST-MODIFIED:20240918T212831Z
UID:1912-1728813600-1728826200@www.countryblossomfarm.com
SUMMARY:8th Annual Apple Pie Baking Contest
DESCRIPTION:Ready…Set…BAKE! \nJoin us for our 8th Annual Apple Pie Baking Contest! \nSunday\, October 13th!  \nThis year\, we will have 3 prize categories. \n-Grand Prize (Best Overall) \n-Best Non-traditional Apple Dessert \n-16 and Under \nOur prizes this year consist of packages made up of gift cards\, merchandise\, coupons and more from over 20 local businesses!! Grand Prize winner will receive a package valued at over $1\,000!!! \nRules: \n-Amateur bakers only!! \n-All desserts must be made from scratch and baked in a 9inch disposable pie pan. Pans will not be returned after the event. \n-Pies must be submitted in a disposable\, covered box to protect it. \n-Please write your name\, pie name\, and list of ingredients on a recipe card and affix to the box. This is required for your entry to be accepted. \n-NO store bought pies\, crusts\, fillings or mixes may be used. \n-Pie entries will be accepted from 10am-11am\, Oct. 13th. No preregistration is required. \nJudging Criteria: \n-Overall appearance \n-Crust (color\, texture\, doneness\, flavor) \n-Filling (consistency\, doneness\, flavor) \n-Overall taste \n  \nThis is a fun community event for ALL! We hope to see you there! ApplePieBakingContest_Flyer_v2 \n 
URL:https://www.countryblossomfarm.com/event/8th-annual-apple-pie-baking-contest/
LOCATION:Country Blossom Farm\, 1951 Englund Rd SW Alexandria\, MN 56308 United States\, United States
END:VEVENT
BEGIN:VEVENT
DTSTART;TZID=America/Chicago:20241017T100000
DTEND;TZID=America/Chicago:20241020T180000
DTSTAMP:20260419T181422
CREATED:20210914T010359Z
LAST-MODIFIED:20240815T211603Z
UID:655-1729159200-1729447200@www.countryblossomfarm.com
SUMMARY:MEA Fun Days
DESCRIPTION:Come to the orchard over MEA and spend some quality time with the family outside enjoying the fall weather!  We will have all the outside activites open 10 am – 6 pm &  wagon rides Friday – Sunday\, 11-5 .   We will have the bakery loaded up with your favorite treats and hot savory hand pies and cider for lunch.  It’s the perfect way to spend MEA. \n-Friday\, October 18th-music from Brooklyn Ostlund 2pm-4pm. \n-Clueless the balloon twisting clown will be here under the tent from 12pm-4pm Saturday (10/19) and Sunday (10/20)
URL:https://www.countryblossomfarm.com/event/mea-fun-days/
END:VEVENT
END:VCALENDAR