BEGIN:VCALENDAR
VERSION:2.0
PRODID:-//Country Blossom Farm, LLC - ECPv6.9.0//NONSGML v1.0//EN
CALSCALE:GREGORIAN
METHOD:PUBLISH
X-WR-CALNAME:Country Blossom Farm, LLC
X-ORIGINAL-URL:https://www.countryblossomfarm.com
X-WR-CALDESC:Events for Country Blossom Farm, LLC
REFRESH-INTERVAL;VALUE=DURATION:PT1H
X-Robots-Tag:noindex
X-PUBLISHED-TTL:PT1H
BEGIN:VTIMEZONE
TZID:America/Chicago
BEGIN:DAYLIGHT
TZOFFSETFROM:-0600
TZOFFSETTO:-0500
TZNAME:CDT
DTSTART:20250309T080000
END:DAYLIGHT
BEGIN:STANDARD
TZOFFSETFROM:-0500
TZOFFSETTO:-0600
TZNAME:CST
DTSTART:20251102T070000
END:STANDARD
END:VTIMEZONE
BEGIN:VEVENT
DTSTART;TZID=America/Chicago:20250418T110000
DTEND;TZID=America/Chicago:20250419T170000
DTSTAMP:20260419T210303
CREATED:20250409T175257Z
LAST-MODIFIED:20250409T175342Z
UID:2036-1744974000-1745082000@www.countryblossomfarm.com
SUMMARY:2025 Easter Weekend Special
DESCRIPTION:Join us for our Easter Weekend Special on Friday\, April 18th and Saturday\, April 19th from 11am-5pm! Shop our HUGE clearance section where select merchandise is 50% off! We will have donuts available for purchase on Saturday***! Take advantage of our deal and get a take & bake ham and scalloped potato pie + 1 dozen frosted sugar cookies for $34.99! Pre-order this special on our website under the “order tab”!
URL:https://www.countryblossomfarm.com/event/2025-easter-weekend-special/
LOCATION:Country Blossom Farm\, 1951 Englund Rd SW Alexandria\, MN 56308 United States\, United States
END:VEVENT
END:VCALENDAR