BEGIN:VCALENDAR
VERSION:2.0
PRODID:-//Country Blossom Farm, LLC - ECPv6.9.0//NONSGML v1.0//EN
CALSCALE:GREGORIAN
METHOD:PUBLISH
X-WR-CALNAME:Country Blossom Farm, LLC
X-ORIGINAL-URL:https://www.countryblossomfarm.com
X-WR-CALDESC:Events for Country Blossom Farm, LLC
REFRESH-INTERVAL;VALUE=DURATION:PT1H
X-Robots-Tag:noindex
X-PUBLISHED-TTL:PT1H
BEGIN:VTIMEZONE
TZID:America/Chicago
BEGIN:DAYLIGHT
TZOFFSETFROM:-0600
TZOFFSETTO:-0500
TZNAME:CDT
DTSTART:20250309T080000
END:DAYLIGHT
BEGIN:STANDARD
TZOFFSETFROM:-0500
TZOFFSETTO:-0600
TZNAME:CST
DTSTART:20251102T070000
END:STANDARD
END:VTIMEZONE
BEGIN:VEVENT
DTSTART;TZID=America/Chicago:20250606T160000
DTEND;TZID=America/Chicago:20250606T190000
DTSTAMP:20260420T000055
CREATED:20250514T194942Z
LAST-MODIFIED:20250629T195130Z
UID:2208-1749225600-1749236400@www.countryblossomfarm.com
SUMMARY:June Thai Night at The Farm
DESCRIPTION:Join us for Thai Night on Friday\, June 6th from 4pm-7pm! Your purchased meal will include Yellow Curry with Jasmin Rice and 1 CBF Hard Cider on tap for $25.00+tax OR pay at the door or $28.00+tax (subject to availability day of) \nYou can substitute the Hard Cider for a non-alcoholic drink if you’d prefer! \nTons of outdoor seating and some limited inside seating available. Enjoy a summer night overlooking the orchard with homemade Thai food! \nFind tickets under the “order” tab on our website!
URL:https://www.countryblossomfarm.com/event/june-thai-night-at-the-farm/
LOCATION:Country Blossom Farm\, 1951 Englund Rd SW Alexandria\, MN 56308 United States\, United States
END:VEVENT
BEGIN:VEVENT
DTSTART;TZID=America/Chicago:20250614T080000
DTEND;TZID=America/Chicago:20250714T140000
DTSTAMP:20260420T000055
CREATED:20250629T195417Z
LAST-MODIFIED:20250701T130447Z
UID:2210-1749888000-1752501600@www.countryblossomfarm.com
SUMMARY:2025 CBF Strawberry Season
DESCRIPTION:2025 Strawberry season will tentatively be from June 18th – July 14th  \nStore hours: 9am-2pm daily – June 12 – July 14 \nStrawberry Patch U-Pick hours: 8am-1pm daily \nHoneyberry Patch U-Pick: 9am-2pm daily – June 12- July 4 \nBakery: Fresh bakery and donuts on Friday-Sunday from 9am-2pm beginning June 18th(NO fresh bakery Monday-Thursday) \nHard Cider available on tap in store during Strawberry Season!! Tons of outdoor seating available and limited indoor seating too!
URL:https://www.countryblossomfarm.com/event/2025-cbf-strawberry-season/
END:VEVENT
END:VCALENDAR